BEGIN:VCALENDAR
VERSION:2.0
PRODID:-//MOVE RUN - ECPv6.1.2.2//NONSGML v1.0//EN
CALSCALE:GREGORIAN
METHOD:PUBLISH
X-ORIGINAL-URL:https://mooovetorun.com
X-WR-CALDESC:Eventos para MOVE RUN
REFRESH-INTERVAL;VALUE=DURATION:PT1H
X-Robots-Tag:noindex
X-PUBLISHED-TTL:PT1H
BEGIN:VTIMEZONE
TZID:Europe/Madrid
BEGIN:DAYLIGHT
TZOFFSETFROM:+0100
TZOFFSETTO:+0200
TZNAME:CEST
DTSTART:20230326T010000
END:DAYLIGHT
BEGIN:STANDARD
TZOFFSETFROM:+0200
TZOFFSETTO:+0100
TZNAME:CET
DTSTART:20231029T010000
END:STANDARD
END:VTIMEZONE
BEGIN:VEVENT
DTSTART;VALUE=DATE:20231013
DTEND;VALUE=DATE:20231016
DTSTAMP:20260420T211316
CREATED:20220111T133941Z
LAST-MODIFIED:20230720T171938Z
UID:5025-1697155200-1697414399@mooovetorun.com
SUMMARY:Sky Gran Canaria 2023
DESCRIPTION:Salobre Golf&Run		\n				\n						\n			\n		\n				\n			\n					\n				\n				\n			Reglamento		\n				\n						\n			\n		\n				\n			\n					\n				\n				\n			Alojamiento		\n				\n						\n			\n		\n				\n			\n					\n				\n				\n			Clasificaciones		\n				\n						\n			\n		\n				\n			\n					\n				\n				\n			Media		\n				\n						\n			\n		\n						\n			\n		\n						\n			\n		\n						\n			\n		\n				\n						\n				\n				\n			\n					\n				\n						\n				\n				\n			\n					\n				\n				\n					 GREEN 6kDISTANCIA: 6 kmSALIDA: 10:35 hDESNIVEL: + 193 m – 193 mTIEMPO: 1h 15 min \n				\n				\n				\n				\n					\n			\n						\n						INSCRIPCIÓN\n		\n					\n		\n				\n				\n				\n				\n					\n			\n						\n						TRACK GPX GREEN 6K\n		\n					\n		\n				\n				\n						\n			\n		\n				\n			\n					\n				\n				\n					 SWING 13k DISTANCIA:: 13 kmSALIDA: 10:30 h DESNIVEL: + 432 m – 432 mTIEMPO: 2:30 horas   \n				\n				\n				\n				\n					\n			\n						\n						INSCRIPCIÓN\n		\n					\n		\n				\n				\n				\n				\n					\n			\n						\n						TRACK GPX SWING 13K\n		\n					\n		\n				\n				\n						\n			\n		\n						\n			\n		\n				\n						\n				\n				\n			\n					\n				\n				\n					\n					\n				\n				\n						\n			\n		\n				\n			\n					\n				\n				\n					\n					\n				\n				\n						\n			\n		\n						\n			\n		\n				\n						\n				\n				\n			\n					\n				\n				\n					\n			\n							\n												\n													\n						\n						Anterior\n					\n					\n						\n						Siguiente\n					\n									\n				\n				\n						\n			\n		\n						\n			\n		\n				\n						\n				\n				\n			\n					\n				\n				\n					\n							\n					\n													\n															\n								\n														\n												PROGRAMA\n					\n					PROGRAMA IV SALOBRE GOLF&RUN 202414 DE ABRIL (DOMINGO) 08:00 a 10:00 h – Entrega de dorsales en el campo de Golf de Salobre Golf Resort\, Plaza Casa Salobre. 10:00 h – Briefing del recorrido y datos técnicos. 10:15 h – Cámara de llamadas corredores  SWING 13 kms y GREEN 6 kms. 10:30 h – Salida SWING SALOBRE GOLFRUN 13 kms. 10:35 h – Salida GREEN SALOBRE GOLFRUN 6 kms. 12:30 h – Cierre de meta todas las modalidades. 13:00 h – Acto de Entrega de Premios en el Tee de Salidas del Campo de Golf\, bajo la Plaza. Si necesitas retirar el dorsal de algún compañer@\, descarga la AUTORIZACIÓN DE RETIRADA DE DORSAL y llévala debidamente cumplimentada. \n				\n							\n					\n													\n															\n								\n														\n												SWING SALOBRE GOLFRUN 13K\n					\n					  \n				\n							\n					\n													\n															\n								\n														\n												GREEN SALOBRE GOLFRUN 6K\n					\n					  \n				\n							\n					\n													\n															\n								\n														\n												PLANO SALIDA Y META\n					\n					 \n				\n							\n					\n													\n															\n								\n														\n												NOVEDADES SALOBRE GOLF&RUN 2024\n					\n					Recorridos dentro del Campo Golf2 nuevas distancias de carrera: 6 y 13 kmsEntrega de dorsales el día de carrera y en la zona de salida para tu comodidad.Nueva zona de salida y meta más accesible y con mejor acceso al público y a la zona de parking.Entrega de Premios en con cóctel final en el Tee de salida del Campo de Golf.\n				\n					\n				\n				\n						\n			\n		\n						\n			\n		\n				\n						\n				\n				\n			\n					\n				\n				\n					\n					\n				\n				\n						\n			\n		\n				\n			\n					\n				\n				\n					\n					\n				\n				\n						\n			\n		\n						\n			\n		\n				\n						\n				\n						\n			\n		\n				\n				\n					\n			\n		\n				\n				\n				\n				\n					PATROCINADORES\n				\n				\n				\n				\n					\n			\n							\n																\n						\n						Anterior\n					\n					\n						\n						Siguiente
URL:https://mooovetorun.com/event/sky-gran-canaria/
CATEGORIES:Español
ATTACH;FMTTYPE=image/png:https://mooovetorun.com/wp-content/uploads/2022/01/LOGO_SKY_2018_A.png
END:VEVENT
END:VCALENDAR